Package: HIREewas Version: 1.28.0 Maintainer: Xiangyu Luo MaintainerEmail: xyluo1991 at gmail.com git_url: https://git.bioconductor.org/packages/HIREewas git_branch: RELEASE_3_22 git_last_commit: 97c294e git_last_commit_date: 2025-10-29 10:48:09 -0500 (Wed, 29 Oct 2025)