Package: HIBAG Version: 1.45.0 Command: F:\biocbuild\bbs-3.22-bioc\R\bin\R.exe CMD check --no-multiarch --install=check:HIBAG.install-out.txt --library=F:\biocbuild\bbs-3.22-bioc\R\library --no-vignettes --timings HIBAG_1.45.0.tar.gz StartedAt: 2025-08-15 04:05:35 -0400 (Fri, 15 Aug 2025) EndedAt: 2025-08-15 04:07:23 -0400 (Fri, 15 Aug 2025) EllapsedTime: 107.3 seconds RetCode: 0 Status: OK CheckDir: HIBAG.Rcheck Warnings: 0