Package: HIBAG Version: 1.46.0 Command: /Library/Frameworks/R.framework/Resources/bin/R CMD INSTALL HIBAG StartedAt: 2025-11-03 15:09:21 -0500 (Mon, 03 Nov 2025) EndedAt: 2025-11-03 15:09:59 -0500 (Mon, 03 Nov 2025) EllapsedTime: 37.5 seconds RetCode: 0 Status: OK