Package: HIBAG Version: 1.46.0 Command: /Library/Frameworks/R.framework/Resources/bin/R CMD check --install=check:HIBAG.install-out.txt --library=/Library/Frameworks/R.framework/Resources/library --no-vignettes --timings HIBAG_1.46.0.tar.gz StartedAt: 2025-11-03 21:47:46 -0500 (Mon, 03 Nov 2025) EndedAt: 2025-11-03 21:49:00 -0500 (Mon, 03 Nov 2025) EllapsedTime: 73.4 seconds RetCode: 0 Status: OK CheckDir: HIBAG.Rcheck Warnings: 0