Package: HIBAG Version: 1.46.0 Command: /Library/Frameworks/R.framework/Resources/bin/R CMD build --keep-empty-dirs --no-resave-data HIBAG StartedAt: 2025-11-06 16:40:36 -0500 (Thu, 06 Nov 2025) EndedAt: 2025-11-06 16:40:50 -0500 (Thu, 06 Nov 2025) EllapsedTime: 14.2 seconds RetCode: 0 Status: OK PackageFile: HIBAG_1.46.0.tar.gz PackageFileSize: 1.813 MiB