Package: HELP Version: 1.68.0 Command: /home/biocbuild/bbs-3.22-bioc/R/bin/R CMD INSTALL HELP StartedAt: 2025-11-09 15:14:13 -0500 (Sun, 09 Nov 2025) EndedAt: 2025-11-09 15:14:18 -0500 (Sun, 09 Nov 2025) EllapsedTime: 5.1 seconds RetCode: 0 Status: OK