Package: HELP Version: 1.68.0 Command: /Library/Frameworks/R.framework/Resources/bin/R CMD INSTALL HELP StartedAt: 2025-11-03 15:20:34 -0500 (Mon, 03 Nov 2025) EndedAt: 2025-11-03 15:20:54 -0500 (Mon, 03 Nov 2025) EllapsedTime: 19.8 seconds RetCode: 0 Status: OK