Package: HELP Version: 1.68.0 Command: /Library/Frameworks/R.framework/Resources/bin/R CMD build --keep-empty-dirs --no-resave-data HELP StartedAt: 2025-11-03 17:19:53 -0500 (Mon, 03 Nov 2025) EndedAt: 2025-11-03 17:20:11 -0500 (Mon, 03 Nov 2025) EllapsedTime: 18.2 seconds RetCode: 0 Status: OK PackageFile: HELP_1.68.0.tar.gz PackageFileSize: 996.9 KiB