Package: HELP Version: 1.68.0 Command: rm -rf HELP.buildbin-libdir && mkdir HELP.buildbin-libdir && /Users/biocbuild/BBS/utils/build-universal.sh HELP_1.68.0.tar.gz /Library/Frameworks/R.framework/Resources/bin/R HELP.buildbin-libdir StartedAt: 2025-11-04 01:44:19 -0500 (Tue, 04 Nov 2025) EndedAt: 2025-11-04 01:44:29 -0500 (Tue, 04 Nov 2025) EllapsedTime: 9.1 seconds RetCode: 0 Status: OK PackageFile: HELP_1.68.0.tgz PackageFileSize: 1.119 MiB