Package: HELP Version: 1.68.0 Command: /Library/Frameworks/R.framework/Resources/bin/R CMD build --keep-empty-dirs --no-resave-data HELP StartedAt: 2025-11-10 16:40:34 -0500 (Mon, 10 Nov 2025) EndedAt: 2025-11-10 16:40:41 -0500 (Mon, 10 Nov 2025) EllapsedTime: 7.1 seconds RetCode: 0 Status: OK PackageFile: HELP_1.68.0.tar.gz PackageFileSize: 998 KiB