Package: HELP Version: 1.68.0 Maintainer: Reid F. Thompson MaintainerEmail: reid.thompson at gmail.com git_url: https://git.bioconductor.org/packages/HELP git_branch: RELEASE_3_22 git_last_commit: e5034bf git_last_commit_date: 2025-10-29 10:00:48 -0500 (Wed, 29 Oct 2025)