Package: Gviz Version: 1.53.1 Command: /home/biocbuild/R/R/bin/R CMD INSTALL Gviz StartedAt: 2025-10-23 21:10:40 -0000 (Thu, 23 Oct 2025) EndedAt: 2025-10-23 21:12:06 -0000 (Thu, 23 Oct 2025) EllapsedTime: 85.8 seconds RetCode: 0 Status: OK