Package: Guitar Version: 2.24.0 Command: E:\biocbuild\bbs-3.21-bioc\R\bin\R.exe CMD INSTALL Guitar StartedAt: 2025-08-14 16:55:14 -0400 (Thu, 14 Aug 2025) EndedAt: 2025-08-14 16:56:04 -0400 (Thu, 14 Aug 2025) EllapsedTime: 49.6 seconds RetCode: 0 Status: OK