Package: Guitar Version: 2.24.0 Command: rm -rf Guitar.buildbin-libdir && mkdir Guitar.buildbin-libdir && E:\biocbuild\bbs-3.21-bioc\R\bin\R.exe CMD INSTALL --build --library=Guitar.buildbin-libdir Guitar_2.24.0.tar.gz StartedAt: 2025-08-15 09:27:05 -0400 (Fri, 15 Aug 2025) EndedAt: 2025-08-15 09:27:48 -0400 (Fri, 15 Aug 2025) EllapsedTime: 43.1 seconds RetCode: 0 Status: OK PackageFile: Guitar_2.24.0.zip PackageFileSize: 3.711 MiB