Package: Guitar Version: 2.24.0 Command: /Library/Frameworks/R.framework/Resources/bin/R CMD INSTALL Guitar StartedAt: 2025-10-13 16:19:28 -0400 (Mon, 13 Oct 2025) EndedAt: 2025-10-13 16:20:44 -0400 (Mon, 13 Oct 2025) EllapsedTime: 76.0 seconds RetCode: 0 Status: OK