Package: Guitar Version: 2.24.0 Command: /home/biocbuild/R/R/bin/R CMD INSTALL Guitar StartedAt: 2025-10-13 21:00:23 -0000 (Mon, 13 Oct 2025) EndedAt: 2025-10-13 21:01:14 -0000 (Mon, 13 Oct 2025) EllapsedTime: 51.7 seconds RetCode: 0 Status: OK