Package: Guitar Version: 2.24.0 Command: /home/biocbuild/R/R/bin/R CMD check --install=check:Guitar.install-out.txt --library=/home/biocbuild/R/R/site-library --no-vignettes --timings Guitar_2.24.0.tar.gz StartedAt: 2025-10-14 09:58:24 -0000 (Tue, 14 Oct 2025) EndedAt: 2025-10-14 10:05:53 -0000 (Tue, 14 Oct 2025) EllapsedTime: 449.3 seconds RetCode: 0 Status: OK CheckDir: Guitar.Rcheck Warnings: 0