Package: Guitar Version: 2.24.0 Command: /home/biocbuild/R/R/bin/R CMD build --keep-empty-dirs --no-resave-data Guitar StartedAt: 2025-10-14 01:31:55 -0000 (Tue, 14 Oct 2025) EndedAt: 2025-10-14 01:52:53 -0000 (Tue, 14 Oct 2025) EllapsedTime: 1258.4 seconds RetCode: 0 Status: OK PackageFile: Guitar_2.24.0.tar.gz PackageFileSize: 3.718 MiB