Package: Guitar Version: 2.24.0 Command: /Library/Frameworks/R.framework/Resources/bin/R CMD INSTALL Guitar StartedAt: 2025-10-13 17:31:55 -0400 (Mon, 13 Oct 2025) EndedAt: 2025-10-13 17:32:38 -0400 (Mon, 13 Oct 2025) EllapsedTime: 42.8 seconds RetCode: 0 Status: OK