Package: GrafGen Version: 1.4.0 Command: /Library/Frameworks/R.framework/Resources/bin/R CMD INSTALL GrafGen StartedAt: 2025-10-13 16:03:07 -0400 (Mon, 13 Oct 2025) EndedAt: 2025-10-13 16:03:34 -0400 (Mon, 13 Oct 2025) EllapsedTime: 27.4 seconds RetCode: 0 Status: OK