Package: Glimma Version: 2.18.0 Command: rm -rf Glimma.buildbin-libdir && mkdir Glimma.buildbin-libdir && /Users/biocbuild/BBS/utils/build-universal.sh Glimma_2.18.0.tar.gz /Library/Frameworks/R.framework/Resources/bin/R Glimma.buildbin-libdir StartedAt: 2025-10-14 13:36:56 -0400 (Tue, 14 Oct 2025) EndedAt: 2025-10-14 13:38:44 -0400 (Tue, 14 Oct 2025) EllapsedTime: 108.8 seconds RetCode: 0 Status: OK PackageFile: Glimma_2.18.0.tgz PackageFileSize: 8.756 MiB