Package: GeoTcgaData Version: 2.9.0 Command: F:\biocbuild\bbs-3.22-bioc\R\bin\R.exe CMD check --no-multiarch --install=check:GeoTcgaData.install-out.txt --library=F:\biocbuild\bbs-3.22-bioc\R\library --no-vignettes --timings GeoTcgaData_2.9.0.tar.gz StartedAt: 2025-06-19 02:34:33 -0400 (Thu, 19 Jun 2025) EndedAt: 2025-06-19 02:39:07 -0400 (Thu, 19 Jun 2025) EllapsedTime: 274.2 seconds RetCode: 0 Status: OK CheckDir: GeoTcgaData.Rcheck Warnings: 0