Package: GeoTcgaData Version: 2.10.0 Command: /home/biocbuild/bbs-3.22-bioc/R/bin/R CMD check --install=check:GeoTcgaData.install-out.txt --library=/home/biocbuild/bbs-3.22-bioc/R/site-library --timings GeoTcgaData_2.10.0.tar.gz StartedAt: 2025-11-10 00:13:07 -0500 (Mon, 10 Nov 2025) EndedAt: 2025-11-10 00:17:03 -0500 (Mon, 10 Nov 2025) EllapsedTime: 236.3 seconds RetCode: 0 Status: OK CheckDir: GeoTcgaData.Rcheck Warnings: 0