Package: GenomicTuples Version: 1.42.0 Command: E:\biocbuild\bbs-3.21-bioc\R\bin\R.exe CMD INSTALL GenomicTuples StartedAt: 2025-08-14 15:51:27 -0400 (Thu, 14 Aug 2025) EndedAt: 2025-08-14 15:54:07 -0400 (Thu, 14 Aug 2025) EllapsedTime: 160.1 seconds RetCode: 0 Status: OK