Package: GenomicTuples Version: 1.42.0 Command: /Library/Frameworks/R.framework/Resources/bin/R CMD build --keep-empty-dirs --no-resave-data GenomicTuples StartedAt: 2025-10-06 19:17:09 -0400 (Mon, 06 Oct 2025) EndedAt: 2025-10-06 19:18:36 -0400 (Mon, 06 Oct 2025) EllapsedTime: 87.1 seconds RetCode: 0 Status: OK PackageFile: GenomicTuples_1.42.0.tar.gz PackageFileSize: 302.8 KiB