Package: GenomicTuples Version: 1.42.0 Command: rm -rf GenomicTuples.buildbin-libdir && mkdir GenomicTuples.buildbin-libdir && /Users/biocbuild/BBS/utils/build-universal.sh GenomicTuples_1.42.0.tar.gz /Library/Frameworks/R.framework/Resources/bin/R GenomicTuples.buildbin-libdir StartedAt: 2025-10-07 13:16:35 -0400 (Tue, 07 Oct 2025) EndedAt: 2025-10-07 13:18:36 -0400 (Tue, 07 Oct 2025) EllapsedTime: 121.2 seconds RetCode: 0 Status: OK PackageFile: GenomicTuples_1.42.0.tgz PackageFileSize: 903.5 KiB