Package: GenomicTuples Version: 1.42.0 Command: /Library/Frameworks/R.framework/Resources/bin/R CMD INSTALL GenomicTuples StartedAt: 2025-10-06 16:53:29 -0400 (Mon, 06 Oct 2025) EndedAt: 2025-10-06 16:53:59 -0400 (Mon, 06 Oct 2025) EllapsedTime: 30.8 seconds RetCode: 0 Status: OK