Package: GenomicTuples Version: 1.42.0 Command: /Library/Frameworks/R.framework/Resources/bin/R CMD check --install=check:GenomicTuples.install-out.txt --library=/Library/Frameworks/R.framework/Resources/library --no-vignettes --timings GenomicTuples_1.42.0.tar.gz StartedAt: 2025-10-08 00:37:47 -0400 (Wed, 08 Oct 2025) EndedAt: 2025-10-08 00:40:11 -0400 (Wed, 08 Oct 2025) EllapsedTime: 144.0 seconds RetCode: 0 Status: OK CheckDir: GenomicTuples.Rcheck Warnings: 0