Package: GenomicSuperSignature Version: 1.16.1 Command: E:\biocbuild\bbs-3.21-bioc\R\bin\R.exe CMD check --no-multiarch --install=check:GenomicSuperSignature.install-out.txt --library=E:\biocbuild\bbs-3.21-bioc\R\library --no-vignettes --timings GenomicSuperSignature_1.16.1.tar.gz StartedAt: 2025-08-15 02:35:44 -0400 (Fri, 15 Aug 2025) EndedAt: 2025-08-15 02:40:43 -0400 (Fri, 15 Aug 2025) EllapsedTime: 299.6 seconds RetCode: 0 Status: WARNINGS CheckDir: GenomicSuperSignature.Rcheck Warnings: 2