Package: GenomicSuperSignature Version: 1.16.1 Command: rm -rf GenomicSuperSignature.buildbin-libdir && mkdir GenomicSuperSignature.buildbin-libdir && E:\biocbuild\bbs-3.21-bioc\R\bin\R.exe CMD INSTALL --build --library=GenomicSuperSignature.buildbin-libdir GenomicSuperSignature_1.16.1.tar.gz StartedAt: 2025-08-15 09:22:33 -0400 (Fri, 15 Aug 2025) EndedAt: 2025-08-15 09:32:22 -0400 (Fri, 15 Aug 2025) EllapsedTime: 589.4 seconds RetCode: 0 Status: OK PackageFile: GenomicSuperSignature_1.16.1.zip PackageFileSize: 6.614 MiB