Package: GenomicSuperSignature Version: 1.18.0 Command: /home/biocbuild/bbs-3.22-bioc/R/bin/R CMD INSTALL GenomicSuperSignature StartedAt: 2025-11-06 15:32:44 -0500 (Thu, 06 Nov 2025) EndedAt: 2025-11-06 15:33:14 -0500 (Thu, 06 Nov 2025) EllapsedTime: 30.3 seconds RetCode: 0 Status: OK