Package: GenomicSuperSignature Version: 1.18.0 Command: /home/biocbuild/bbs-3.22-bioc/R/bin/R CMD check --install=check:GenomicSuperSignature.install-out.txt --library=/home/biocbuild/bbs-3.22-bioc/R/site-library --timings GenomicSuperSignature_1.18.0.tar.gz StartedAt: 2025-11-06 23:57:42 -0500 (Thu, 06 Nov 2025) EndedAt: 2025-11-07 00:05:14 -0500 (Fri, 07 Nov 2025) EllapsedTime: 452.5 seconds RetCode: 0 Status: WARNINGS CheckDir: GenomicSuperSignature.Rcheck Warnings: 2