Package: GenomicSuperSignature Version: 1.18.0 Command: /home/biocbuild/bbs-3.22-bioc/R/bin/R CMD build --keep-empty-dirs --no-resave-data --md5 GenomicSuperSignature StartedAt: 2025-11-06 17:49:19 -0500 (Thu, 06 Nov 2025) EndedAt: 2025-11-06 17:52:11 -0500 (Thu, 06 Nov 2025) EllapsedTime: 172.1 seconds RetCode: 0 Status: OK PackageFile: GenomicSuperSignature_1.18.0.tar.gz PackageFileSize: 6.297 MiB