Package: GenomicRanges Version: 1.60.0 Command: E:\biocbuild\bbs-3.21-bioc\R\bin\R.exe CMD check --no-multiarch --install=check:GenomicRanges.install-out.txt --library=E:\biocbuild\bbs-3.21-bioc\R\library --no-vignettes --timings GenomicRanges_1.60.0.tar.gz StartedAt: 2025-08-15 02:34:04 -0400 (Fri, 15 Aug 2025) EndedAt: 2025-08-15 02:39:02 -0400 (Fri, 15 Aug 2025) EllapsedTime: 298.5 seconds RetCode: 0 Status: OK CheckDir: GenomicRanges.Rcheck Warnings: 0