Package: GenomicPlot Version: 1.6.0 Command: /Library/Frameworks/R.framework/Resources/bin/R CMD check --install=check:GenomicPlot.install-out.txt --library=/Library/Frameworks/R.framework/Resources/library --no-vignettes --timings GenomicPlot_1.6.0.tar.gz StartedAt: 2025-04-21 20:56:12 -0400 (Mon, 21 Apr 2025) EndedAt: 2025-04-21 21:07:21 -0400 (Mon, 21 Apr 2025) EllapsedTime: 669.5 seconds RetCode: 0 Status: OK CheckDir: GenomicPlot.Rcheck Warnings: 0