Package: GenomicPlot Version: 1.6.0 Command: /Library/Frameworks/R.framework/Resources/bin/R CMD build --keep-empty-dirs --no-resave-data GenomicPlot StartedAt: 2025-04-21 16:55:37 -0400 (Mon, 21 Apr 2025) EndedAt: 2025-04-21 16:58:22 -0400 (Mon, 21 Apr 2025) EllapsedTime: 165.5 seconds RetCode: 0 Status: OK PackageFile: GenomicPlot_1.6.0.tar.gz PackageFileSize: 4.093 MiB