Package: GenomicOZone Version: 1.22.0 Command: /Library/Frameworks/R.framework/Resources/bin/R CMD build --keep-empty-dirs --no-resave-data GenomicOZone StartedAt: 2025-10-13 19:19:05 -0400 (Mon, 13 Oct 2025) EndedAt: 2025-10-13 19:24:11 -0400 (Mon, 13 Oct 2025) EllapsedTime: 305.9 seconds RetCode: 0 Status: OK PackageFile: GenomicOZone_1.22.0.tar.gz PackageFileSize: 1.277 MiB