Package: GenomicOZone Version: 1.22.0 Command: rm -rf GenomicOZone.buildbin-libdir && mkdir GenomicOZone.buildbin-libdir && /Users/biocbuild/BBS/utils/build-universal.sh GenomicOZone_1.22.0.tar.gz /Library/Frameworks/R.framework/Resources/bin/R GenomicOZone.buildbin-libdir StartedAt: 2025-10-14 13:33:33 -0400 (Tue, 14 Oct 2025) EndedAt: 2025-10-14 13:36:18 -0400 (Tue, 14 Oct 2025) EllapsedTime: 164.9 seconds RetCode: 0 Status: OK PackageFile: GenomicOZone_1.22.0.tgz PackageFileSize: 1.329 MiB