Package: GenomicOZone Version: 1.22.0 Command: /Library/Frameworks/R.framework/Resources/bin/R CMD check --install=check:GenomicOZone.install-out.txt --library=/Library/Frameworks/R.framework/Resources/library --no-vignettes --timings GenomicOZone_1.22.0.tar.gz StartedAt: 2025-04-21 20:55:39 -0400 (Mon, 21 Apr 2025) EndedAt: 2025-04-21 21:01:47 -0400 (Mon, 21 Apr 2025) EllapsedTime: 368.0 seconds RetCode: 0 Status: OK CheckDir: GenomicOZone.Rcheck Warnings: 0