Package: GenomicOZone Version: 1.22.0 Command: /Library/Frameworks/R.framework/Resources/bin/R CMD build --keep-empty-dirs --no-resave-data GenomicOZone StartedAt: 2025-04-21 16:26:23 -0400 (Mon, 21 Apr 2025) EndedAt: 2025-04-21 16:27:17 -0400 (Mon, 21 Apr 2025) EllapsedTime: 54.6 seconds RetCode: 0 Status: OK PackageFile: GenomicOZone_1.22.0.tar.gz PackageFileSize: 1.276 MiB