Package: GenomicOZone Version: 1.22.0 Command: rm -rf GenomicOZone.buildbin-libdir && mkdir GenomicOZone.buildbin-libdir && /Users/biocbuild/BBS/utils/build-universal.sh GenomicOZone_1.22.0.tar.gz /Library/Frameworks/R.framework/Resources/bin/R GenomicOZone.buildbin-libdir StartedAt: 2025-04-21 22:36:28 -0400 (Mon, 21 Apr 2025) EndedAt: 2025-04-21 22:36:51 -0400 (Mon, 21 Apr 2025) EllapsedTime: 22.4 seconds RetCode: 0 Status: OK PackageFile: GenomicOZone_1.22.0.tgz PackageFileSize: 1.327 MiB