Package: GenomicInteractions Version: 1.42.0 Command: rm -rf GenomicInteractions.buildbin-libdir && mkdir GenomicInteractions.buildbin-libdir && E:\biocbuild\bbs-3.21-bioc\R\bin\R.exe CMD INSTALL --build --library=GenomicInteractions.buildbin-libdir GenomicInteractions_1.42.0.tar.gz StartedAt: 2025-08-15 09:22:07 -0400 (Fri, 15 Aug 2025) EndedAt: 2025-08-15 09:28:53 -0400 (Fri, 15 Aug 2025) EllapsedTime: 405.5 seconds RetCode: 0 Status: OK PackageFile: GenomicInteractions_1.42.0.zip PackageFileSize: 3.768 MiB