Package: GenomicInteractions Version: 1.42.0 Command: /Library/Frameworks/R.framework/Resources/bin/R CMD INSTALL GenomicInteractions StartedAt: 2025-10-13 16:28:46 -0400 (Mon, 13 Oct 2025) EndedAt: 2025-10-13 16:31:25 -0400 (Mon, 13 Oct 2025) EllapsedTime: 159.9 seconds RetCode: 0 Status: OK