Package: GenomicInteractions Version: 1.42.0 Command: /Library/Frameworks/R.framework/Resources/bin/R CMD check --install=check:GenomicInteractions.install-out.txt --library=/Library/Frameworks/R.framework/Resources/library --no-vignettes --timings GenomicInteractions_1.42.0.tar.gz StartedAt: 2025-04-21 19:34:05 -0400 (Mon, 21 Apr 2025) EndedAt: 2025-04-21 19:36:35 -0400 (Mon, 21 Apr 2025) EllapsedTime: 149.7 seconds RetCode: 0 Status: OK CheckDir: GenomicInteractions.Rcheck Warnings: 0