Package: GenomicInteractions Version: 1.42.0 Command: /Library/Frameworks/R.framework/Resources/bin/R CMD build --keep-empty-dirs --no-resave-data GenomicInteractions StartedAt: 2025-10-14 01:01:39 -0400 (Tue, 14 Oct 2025) EndedAt: 2025-10-14 01:05:19 -0400 (Tue, 14 Oct 2025) EllapsedTime: 219.8 seconds RetCode: 0 Status: OK PackageFile: GenomicInteractions_1.42.0.tar.gz PackageFileSize: 3.527 MiB