Package: GenomAutomorphism Version: 1.10.0 Command: /Library/Frameworks/R.framework/Resources/bin/R CMD build --keep-empty-dirs --no-resave-data GenomAutomorphism StartedAt: 2025-10-06 19:14:18 -0400 (Mon, 06 Oct 2025) EndedAt: 2025-10-06 19:18:39 -0400 (Mon, 06 Oct 2025) EllapsedTime: 261.6 seconds RetCode: 0 Status: OK PackageFile: GenomAutomorphism_1.10.0.tar.gz PackageFileSize: 1.367 MiB