Package: GeneticsPed Version: 1.71.0 Command: /home/biocbuild/R/R/bin/R CMD build --keep-empty-dirs --no-resave-data GeneticsPed StartedAt: 2025-10-20 23:58:11 -0000 (Mon, 20 Oct 2025) EndedAt: 2025-10-20 23:58:40 -0000 (Mon, 20 Oct 2025) EllapsedTime: 29.0 seconds RetCode: 0 Status: OK PackageFile: GeneticsPed_1.71.0.tar.gz PackageFileSize: 646 KiB