Package: GeneticsPed Version: 1.70.0 Command: /Library/Frameworks/R.framework/Resources/bin/R CMD check --install=check:GeneticsPed.install-out.txt --library=/Library/Frameworks/R.framework/Resources/library --no-vignettes --timings GeneticsPed_1.70.0.tar.gz StartedAt: 2025-10-14 04:14:05 -0400 (Tue, 14 Oct 2025) EndedAt: 2025-10-14 04:15:04 -0400 (Tue, 14 Oct 2025) EllapsedTime: 59.4 seconds RetCode: 0 Status: WARNINGS CheckDir: GeneticsPed.Rcheck Warnings: 1