Package: GeneticsPed Version: 1.70.0 Command: /Library/Frameworks/R.framework/Resources/bin/R CMD build --keep-empty-dirs --no-resave-data GeneticsPed StartedAt: 2025-10-13 19:15:54 -0400 (Mon, 13 Oct 2025) EndedAt: 2025-10-13 19:16:56 -0400 (Mon, 13 Oct 2025) EllapsedTime: 62.8 seconds RetCode: 0 Status: OK PackageFile: GeneticsPed_1.70.0.tar.gz PackageFileSize: 670.5 KiB