Package: GeneTonic Version: 3.2.2 Command: /Library/Frameworks/R.framework/Resources/bin/R CMD INSTALL GeneTonic StartedAt: 2025-10-13 16:35:29 -0400 (Mon, 13 Oct 2025) EndedAt: 2025-10-13 16:37:17 -0400 (Mon, 13 Oct 2025) EllapsedTime: 108.1 seconds RetCode: 0 Status: OK